BEGIN:VCALENDAR
VERSION:2.0
PRODID:-//Plone.org//NONSGML plone.app.event//EN
X-WR-TIMEZONE:US/Central
BEGIN:VEVENT
SUMMARY:PENDING - LEGO Club
DTSTART;TZID=US/Central:20200307T100000
DTEND;TZID=US/Central:20200307T110000
DTSTAMP:20260420T185544Z
UID:29c5b2f534ae4f0784ed50dcccf67137@saas_stack_varnish:6080
CREATED:20190716T202046Z
LAST-MODIFIED:20200316T210250Z
LOCATION:Jerseyville PL meeting room
URL:https://www.jerseyvillelibrary.org/news-events/lib-cal/lego-club-1/202
 0-03-07
END:VEVENT
BEGIN:VTIMEZONE
TZID:US/Central
X-LIC-LOCATION:US/Central
BEGIN:STANDARD
DTSTART:20191103T010000
TZNAME:CST
TZOFFSETFROM:-0500
TZOFFSETTO:-0600
END:STANDARD
END:VTIMEZONE
END:VCALENDAR
