BEGIN:VCALENDAR
VERSION:2.0
PRODID:-//Plone.org//NONSGML plone.app.event//EN
X-WR-TIMEZONE:US/Central
BEGIN:VEVENT
SUMMARY:PENDING - LEGO Club
DTSTART;TZID=US/Central:20200404T100000
DTEND;TZID=US/Central:20200404T110000
DTSTAMP:20260420T190025Z
UID:29c5b2f534ae4f0784ed50dcccf67137@saas_stack_varnish:6080
CREATED:20190716T202046Z
LAST-MODIFIED:20200316T210250Z
LOCATION:Jerseyville PL meeting room
URL:https://www.jerseyvillelibrary.org/news-events/lib-cal/lego-club-1/202
 0-04-04
END:VEVENT
BEGIN:VTIMEZONE
TZID:US/Central
X-LIC-LOCATION:US/Central
BEGIN:DAYLIGHT
DTSTART:20200308T030000
TZNAME:CDT
TZOFFSETFROM:-0600
TZOFFSETTO:-0500
END:DAYLIGHT
END:VTIMEZONE
END:VCALENDAR
