BEGIN:VCALENDAR
VERSION:2.0
PRODID:-//Plone.org//NONSGML plone.app.event//EN
X-WR-TIMEZONE:US/Central
BEGIN:VEVENT
SUMMARY:Lego Club - September 2021
DTSTART;TZID=US/Central:20210904T100000
DTEND;TZID=US/Central:20210904T110000
DTSTAMP:20260420T172900Z
UID:1bd484cb24eb464abc933d5ff6abfee3@saas_stack_varnish:6080
CREATED:20210901T185552Z
LAST-MODIFIED:20210901T190134Z
LOCATION:Jerseyville Public Library
URL:https://www.jerseyvillelibrary.org/news-events/lib-cal/lego-club-septe
 mber-2021
END:VEVENT
BEGIN:VTIMEZONE
TZID:US/Central
X-LIC-LOCATION:US/Central
BEGIN:DAYLIGHT
DTSTART:20210314T030000
TZNAME:CDT
TZOFFSETFROM:-0600
TZOFFSETTO:-0500
END:DAYLIGHT
END:VTIMEZONE
END:VCALENDAR
