BEGIN:VCALENDAR
VERSION:2.0
PRODID:-//Plone.org//NONSGML plone.app.event//EN
X-WR-TIMEZONE:US/Central
BEGIN:VEVENT
SUMMARY:Monthly Buy-the-Bag Booksale
DTSTART;TZID=US/Central:20190904T203000
DTEND;TZID=US/Central:20190904T203000
DTSTAMP:20260420T161753Z
UID:f38b448c6e3749c39a9b11d15bccb1b2@saas_stack_varnish:6080
CONTACT:618.498.9514
CREATED:20190829T154514Z
LAST-MODIFIED:20190829T154523Z
LOCATION:Jerseyville Public Library Book Sale Area
URL:https://www.jerseyvillelibrary.org/news-events/lib-cal/monthly-buy-the
 -bag-booksale
END:VEVENT
BEGIN:VTIMEZONE
TZID:US/Central
X-LIC-LOCATION:US/Central
BEGIN:DAYLIGHT
DTSTART:20190310T030000
TZNAME:CDT
TZOFFSETFROM:-0600
TZOFFSETTO:-0500
END:DAYLIGHT
END:VTIMEZONE
END:VCALENDAR
