BEGIN:VCALENDAR
VERSION:2.0
PRODID:-//Plone.org//NONSGML plone.app.event//EN
X-WR-TIMEZONE:US/Central
BEGIN:VEVENT
SUMMARY:Movie Matinee for Grown-ups
DTSTART;TZID=US/Central:20190820T130000
DTEND;TZID=US/Central:20190820T150000
DTSTAMP:20260420T160421Z
UID:37158613405c44ffbc251c4097d2fa21@saas_stack_varnish:6080
CONTACT:618.498.9514
CREATED:20190730T170156Z
LAST-MODIFIED:20190730T170204Z
LOCATION:Jerseyville PL meeting room
URL:https://www.jerseyvillelibrary.org/news-events/lib-cal/movie-matinee-f
 or-grown-ups-11
END:VEVENT
BEGIN:VTIMEZONE
TZID:US/Central
X-LIC-LOCATION:US/Central
BEGIN:DAYLIGHT
DTSTART:20190310T030000
TZNAME:CDT
TZOFFSETFROM:-0600
TZOFFSETTO:-0500
END:DAYLIGHT
END:VTIMEZONE
END:VCALENDAR
