BEGIN:VCALENDAR
VERSION:2.0
PRODID:-//Plone.org//NONSGML plone.app.event//EN
X-WR-TIMEZONE:US/Central
BEGIN:VEVENT
SUMMARY:Movie Matinee for Grown-ups
DTSTART;TZID=US/Central:20190409T130000
DTEND;TZID=US/Central:20190409T150000
DTSTAMP:20260420T134923Z
UID:a8831191a5d848e4b9a14a615a5d252e@saas_stack_varnish:6080
CONTACT:618.498.9514
CREATED:20190403T164803Z
DESCRIPTION:New Release
LAST-MODIFIED:20190403T164810Z
LOCATION:Jerseyville PL upstairs meeting room
URL:https://www.jerseyvillelibrary.org/news-events/lib-cal/movie-matinee-f
 or-grown-ups-8
END:VEVENT
BEGIN:VTIMEZONE
TZID:US/Central
X-LIC-LOCATION:US/Central
BEGIN:DAYLIGHT
DTSTART:20190310T030000
TZNAME:CDT
TZOFFSETFROM:-0600
TZOFFSETTO:-0500
END:DAYLIGHT
END:VTIMEZONE
END:VCALENDAR
