BEGIN:VCALENDAR
VERSION:2.0
PRODID:-//Plone.org//NONSGML plone.app.event//EN
X-WR-TIMEZONE:US/Central
BEGIN:VEVENT
SUMMARY:Outdoor Movie Event
DTSTART;TZID=US/Central:20180928T193000
DTEND;TZID=US/Central:20180928T211500
DTSTAMP:20260420T105250Z
UID:4e718a9a7dba4a4ea36b47a74d181583@saas_stack_varnish:6080
CONTACT:618.498.9514
CREATED:20180829T210400Z
LAST-MODIFIED:20180829T210406Z
LOCATION:Jerseyville PL parking lot/under the tent
URL:https://www.jerseyvillelibrary.org/news-events/lib-cal/outdoor-movie-e
 vent
END:VEVENT
BEGIN:VTIMEZONE
TZID:US/Central
X-LIC-LOCATION:US/Central
BEGIN:DAYLIGHT
DTSTART:20180311T030000
TZNAME:CDT
TZOFFSETFROM:-0600
TZOFFSETTO:-0500
END:DAYLIGHT
END:VTIMEZONE
END:VCALENDAR
