BEGIN:VCALENDAR
VERSION:2.0
PRODID:-//Plone.org//NONSGML plone.app.event//EN
X-WR-TIMEZONE:US/Central
BEGIN:VEVENT
SUMMARY:Outdoor Movie
DTSTART;TZID=US/Central:20181019T183000
DTEND;TZID=US/Central:20181019T200000
DTSTAMP:20260420T105133Z
UID:ea0180dbc7384df2bd5320c798d2537b@saas_stack_varnish:6080
CONTACT:618.498.9514
CREATED:20180930T171114Z
DESCRIPTION:Scooby-Doo
LAST-MODIFIED:20180930T171123Z
LOCATION:Jerseyville PL parking lot
URL:https://www.jerseyvillelibrary.org/news-events/lib-cal/outdoor-movie
END:VEVENT
BEGIN:VTIMEZONE
TZID:US/Central
X-LIC-LOCATION:US/Central
BEGIN:DAYLIGHT
DTSTART:20180311T030000
TZNAME:CDT
TZOFFSETFROM:-0600
TZOFFSETTO:-0500
END:DAYLIGHT
END:VTIMEZONE
END:VCALENDAR
