BEGIN:VCALENDAR
VERSION:2.0
PRODID:-//Plone.org//NONSGML plone.app.event//EN
X-WR-TIMEZONE:US/Central
BEGIN:VEVENT
SUMMARY:CANCELLED - Preschool Story Hour - Morning
DTSTART;TZID=US/Central:20191126T100000
DTEND;TZID=US/Central:20191126T110000
DTSTAMP:20260420T173200Z
UID:c07ab41e0d2a4e3395a09a93dbeb8a82@saas_stack_varnish:6080
CONTACT:Laurie\, 618-498-9514\, lauriei@jerseyvillelibrary.org
CREATED:20190826T135023Z
LAST-MODIFIED:20200316T210400Z
LOCATION:Meeting Room
URL:https://www.jerseyvillelibrary.org/news-events/lib-cal/preschool-story
 -hour-am/2019-11-26
END:VEVENT
BEGIN:VTIMEZONE
TZID:US/Central
X-LIC-LOCATION:US/Central
BEGIN:STANDARD
DTSTART:20191103T010000
TZNAME:CST
TZOFFSETFROM:-0500
TZOFFSETTO:-0600
END:STANDARD
END:VTIMEZONE
END:VCALENDAR
