BEGIN:VCALENDAR
VERSION:2.0
PRODID:-//Plone.org//NONSGML plone.app.event//EN
X-WR-TIMEZONE:US/Central
BEGIN:VEVENT
SUMMARY:Preschool Story Hour - Evening
DTSTART;TZID=US/Central:20181127T190000
DTEND;TZID=US/Central:20181127T200000
DTSTAMP:20260420T105326Z
UID:abca7fb426d74c20b80ccf7ee8911d34@saas_stack_varnish:6080
CONTACT:Laurie\, 618.498.9514\, lauriei@jerseyvillelibrary.org
CREATED:20180816T180951Z
LAST-MODIFIED:20181129T221150Z
LOCATION:Jerseyville PL meeting room
URL:https://www.jerseyvillelibrary.org/news-events/lib-cal/preschool-story
 -hour-evening/2018-11-27
END:VEVENT
BEGIN:VTIMEZONE
TZID:US/Central
X-LIC-LOCATION:US/Central
BEGIN:STANDARD
DTSTART:20181104T010000
TZNAME:CST
TZOFFSETFROM:-0500
TZOFFSETTO:-0600
END:STANDARD
END:VTIMEZONE
END:VCALENDAR
