BEGIN:VCALENDAR
VERSION:2.0
PRODID:-//Plone.org//NONSGML plone.app.event//EN
X-WR-TIMEZONE:US/Central
BEGIN:VEVENT
SUMMARY:Preschool Story Hour - Morning
DTSTART;TZID=US/Central:20181218T100000
DTEND;TZID=US/Central:20181218T110000
DTSTAMP:20260420T120554Z
UID:a2b413091c064a3ba73a4d0056c600d2@saas_stack_varnish:6080
CONTACT:Laurie\, 618.498.9514
CREATED:20181129T221733Z
LAST-MODIFIED:20181129T221739Z
URL:https://www.jerseyvillelibrary.org/news-events/lib-cal/preschool-story
 -hour-morning-1
END:VEVENT
BEGIN:VTIMEZONE
TZID:US/Central
X-LIC-LOCATION:US/Central
BEGIN:STANDARD
DTSTART:20181104T010000
TZNAME:CST
TZOFFSETFROM:-0500
TZOFFSETTO:-0600
END:STANDARD
END:VTIMEZONE
END:VCALENDAR
