BEGIN:VCALENDAR
VERSION:2.0
PRODID:-//Plone.org//NONSGML plone.app.event//EN
X-WR-TIMEZONE:US/Central
BEGIN:VEVENT
SUMMARY:Preschool Story Hour - Morning
DTSTART;TZID=US/Central:20181127T100000
DTEND;TZID=US/Central:20181127T110000
DTSTAMP:20260420T110207Z
UID:e38870d038ae4f77b364ea2e5752e1ab@saas_stack_varnish:6080
CONTACT:Laurie\, 618.498.9514\, lauriei@jerseyvillelibrary.org
CREATED:20180816T180733Z
LAST-MODIFIED:20181129T223328Z
LOCATION:Jerseyville PL meeting room
URL:https://www.jerseyvillelibrary.org/news-events/lib-cal/preschool-story
 -hour-morning/2018-11-27
END:VEVENT
BEGIN:VTIMEZONE
TZID:US/Central
X-LIC-LOCATION:US/Central
BEGIN:STANDARD
DTSTART:20181104T010000
TZNAME:CST
TZOFFSETFROM:-0500
TZOFFSETTO:-0600
END:STANDARD
END:VTIMEZONE
END:VCALENDAR
