BEGIN:VCALENDAR
VERSION:2.0
PRODID:-//Plone.org//NONSGML plone.app.event//EN
X-WR-TIMEZONE:US/Central
BEGIN:VEVENT
SUMMARY:Preschool Story Hour - Morning
DTSTART;TZID=US/Central:20190326T100000
DTEND;TZID=US/Central:20190326T110000
DTSTAMP:20260420T135049Z
UID:e38870d038ae4f77b364ea2e5752e1ab@saas_stack_varnish:6080
CONTACT:Laurie\, 618.498.9514\, lauriei@jerseyvillelibrary.org
CREATED:20180816T180733Z
LAST-MODIFIED:20181129T223328Z
LOCATION:Jerseyville PL meeting room
URL:https://www.jerseyvillelibrary.org/news-events/lib-cal/preschool-story
 -hour-morning/2019-03-26
END:VEVENT
BEGIN:VTIMEZONE
TZID:US/Central
X-LIC-LOCATION:US/Central
BEGIN:DAYLIGHT
DTSTART:20190310T030000
TZNAME:CDT
TZOFFSETFROM:-0600
TZOFFSETTO:-0500
END:DAYLIGHT
END:VTIMEZONE
END:VCALENDAR
