BEGIN:VCALENDAR
VERSION:2.0
PRODID:-//Plone.org//NONSGML plone.app.event//EN
X-WR-TIMEZONE:US/Central
BEGIN:VEVENT
SUMMARY:Preschool Story Time
DTSTART;TZID=US/Central:20220222T100000
DTEND;TZID=US/Central:20220222T103000
DTSTAMP:20260420T160437Z
UID:486c9f66dd2442868fc9a56b59f6b4a1@saas_stack_varnish:6080
CREATED:20210901T191718Z
LAST-MODIFIED:20210914T211408Z
LOCATION:Jerseyville Public Library
URL:https://www.jerseyvillelibrary.org/news-events/lib-cal/preschool-story
 -time/2022-02-22
END:VEVENT
BEGIN:VTIMEZONE
TZID:US/Central
X-LIC-LOCATION:US/Central
BEGIN:STANDARD
DTSTART:20211107T010000
TZNAME:CST
TZOFFSETFROM:-0500
TZOFFSETTO:-0600
END:STANDARD
END:VTIMEZONE
END:VCALENDAR
