BEGIN:VCALENDAR
VERSION:2.0
PRODID:-//Plone.org//NONSGML plone.app.event//EN
X-WR-TIMEZONE:US/Central
BEGIN:VEVENT
SUMMARY:Special Board of Trustees Meeting
DTSTART;TZID=US/Central:20200117T150000
DTEND;TZID=US/Central:20200117T160000
DTSTAMP:20260420T185845Z
UID:20bec91825e04b9ab434d981fe734784@saas_stack_varnish:6080
CREATED:20200115T193601Z
LAST-MODIFIED:20200115T193718Z
URL:https://www.jerseyvillelibrary.org/news-events/lib-cal/special-board-o
 f-trustees-meeting
END:VEVENT
BEGIN:VTIMEZONE
TZID:US/Central
X-LIC-LOCATION:US/Central
BEGIN:STANDARD
DTSTART:20191103T010000
TZNAME:CST
TZOFFSETFROM:-0500
TZOFFSETTO:-0600
END:STANDARD
END:VTIMEZONE
END:VCALENDAR
