BEGIN:VCALENDAR
VERSION:2.0
PRODID:-//Plone.org//NONSGML plone.app.event//EN
X-WR-TIMEZONE:US/Central
BEGIN:VEVENT
SUMMARY:Spring Book Sale
DTSTART;TZID=US/Central:20180406T083000
DTEND;TZID=US/Central:20180406T170000
DTSTAMP:20260420T081751Z
UID:9f9632ee889048e2a0f1f6df5fafe581@saas_stack_varnish:6080
CONTACT:618.498.9514
CREATED:20180322T181613Z
LAST-MODIFIED:20180322T181617Z
LOCATION:Library Meeting Room and Under the Tent
URL:https://www.jerseyvillelibrary.org/news-events/lib-cal/spring-book-sal
 e-2
END:VEVENT
BEGIN:VTIMEZONE
TZID:US/Central
X-LIC-LOCATION:US/Central
BEGIN:DAYLIGHT
DTSTART:20180311T030000
TZNAME:CDT
TZOFFSETFROM:-0600
TZOFFSETTO:-0500
END:DAYLIGHT
END:VTIMEZONE
END:VCALENDAR
