BEGIN:VCALENDAR
VERSION:2.0
PRODID:-//Plone.org//NONSGML plone.app.event//EN
X-WR-TIMEZONE:US/Central
BEGIN:VEVENT
SUMMARY:Spring Book Sale
DTSTART;TZID=US/Central:20190412T083000
DTEND;TZID=US/Central:20190412T130000
DTSTAMP:20260420T132851Z
UID:899ecb94f6aa4f63899e42dd25be2de0@saas_stack_varnish:6080
CONTACT:618.498.9514
CREATED:20190403T165922Z
LAST-MODIFIED:20190403T165926Z
LOCATION:Jerseyville PL meeting room & upstairs meeting room
URL:https://www.jerseyvillelibrary.org/news-events/lib-cal/spring-book-sal
 e-4
END:VEVENT
BEGIN:VTIMEZONE
TZID:US/Central
X-LIC-LOCATION:US/Central
BEGIN:DAYLIGHT
DTSTART:20190310T030000
TZNAME:CDT
TZOFFSETFROM:-0600
TZOFFSETTO:-0500
END:DAYLIGHT
END:VTIMEZONE
END:VCALENDAR
