BEGIN:VCALENDAR
VERSION:2.0
PRODID:-//Plone.org//NONSGML plone.app.event//EN
X-WR-TIMEZONE:US/Central
BEGIN:VEVENT
SUMMARY:SRC Activity for Grown-ups
DTSTART;TZID=US/Central:20180712T100000
DTEND;TZID=US/Central:20180712T110000
DTSTAMP:20260420T081704Z
UID:12ba728e884045e89f3c35479b65c93a@saas_stack_varnish:6080
CONTACT:618.498.9514
CREATED:20180615T141250Z
DESCRIPTION:Tai Chi for Health
LAST-MODIFIED:20180615T141255Z
LOCATION:Library Meeting Room
URL:https://www.jerseyvillelibrary.org/news-events/lib-cal/src-activity-fo
 r-grown-ups-10
END:VEVENT
BEGIN:VTIMEZONE
TZID:US/Central
X-LIC-LOCATION:US/Central
BEGIN:DAYLIGHT
DTSTART:20180311T030000
TZNAME:CDT
TZOFFSETFROM:-0600
TZOFFSETTO:-0500
END:DAYLIGHT
END:VTIMEZONE
END:VCALENDAR
