BEGIN:VCALENDAR
VERSION:2.0
PRODID:-//Plone.org//NONSGML plone.app.event//EN
X-WR-TIMEZONE:US/Central
BEGIN:VEVENT
SUMMARY:SRC Activity for Grown-ups
DTSTART;TZID=US/Central:20180628T100000
DTEND;TZID=US/Central:20180628T113000
DTSTAMP:20260420T092852Z
UID:78cd82dd2b854b5aa44a2920add433ba@saas_stack_varnish:6080
CONTACT:618.498.9514
CREATED:20180613T213728Z
LAST-MODIFIED:20180615T132151Z
URL:https://www.jerseyvillelibrary.org/news-events/lib-cal/src-activity-fo
 r-grown-ups-2
END:VEVENT
BEGIN:VTIMEZONE
TZID:US/Central
X-LIC-LOCATION:US/Central
BEGIN:DAYLIGHT
DTSTART:20180311T030000
TZNAME:CDT
TZOFFSETFROM:-0600
TZOFFSETTO:-0500
END:DAYLIGHT
END:VTIMEZONE
END:VCALENDAR
