BEGIN:VCALENDAR
VERSION:2.0
PRODID:-//Plone.org//NONSGML plone.app.event//EN
X-WR-TIMEZONE:US/Central
BEGIN:VEVENT
SUMMARY:SRC Activity for Grown-ups
DTSTART;TZID=US/Central:20180703T083000
DTEND;TZID=US/Central:20180703T210000
DTSTAMP:20260420T092903Z
UID:83d493f043624c91ab0ffe7820bcb6cb@saas_stack_varnish:6080
CONTACT:618.498.9514
CREATED:20180613T214107Z
DESCRIPTION:Passive Program
LAST-MODIFIED:20180613T214115Z
URL:https://www.jerseyvillelibrary.org/news-events/lib-cal/src-activity-fo
 r-grown-ups-3
END:VEVENT
BEGIN:VTIMEZONE
TZID:US/Central
X-LIC-LOCATION:US/Central
BEGIN:DAYLIGHT
DTSTART:20180311T030000
TZNAME:CDT
TZOFFSETFROM:-0600
TZOFFSETTO:-0500
END:DAYLIGHT
END:VTIMEZONE
END:VCALENDAR
