BEGIN:VCALENDAR
VERSION:2.0
PRODID:-//Plone.org//NONSGML plone.app.event//EN
X-WR-TIMEZONE:US/Central
BEGIN:VEVENT
SUMMARY:SRC Activity for Grown-ups
DTSTART;TZID=US/Central:20180706T091500
DTEND;TZID=US/Central:20180706T140000
DTSTAMP:20260420T092903Z
UID:41ccba9cc6654e98a83893d3722f012d@saas_stack_varnish:6080
CONTACT:618.498.9514
CREATED:20180613T214638Z
DESCRIPTION:Field Trip to the American Center for Archeology in Kampsville
LAST-MODIFIED:20180613T214645Z
LOCATION:American Center for Archeology in Kampsville
URL:https://www.jerseyvillelibrary.org/news-events/lib-cal/src-activity-fo
 r-grown-ups-4
END:VEVENT
BEGIN:VTIMEZONE
TZID:US/Central
X-LIC-LOCATION:US/Central
BEGIN:DAYLIGHT
DTSTART:20180311T030000
TZNAME:CDT
TZOFFSETFROM:-0600
TZOFFSETTO:-0500
END:DAYLIGHT
END:VTIMEZONE
END:VCALENDAR
