BEGIN:VCALENDAR
VERSION:2.0
PRODID:-//Plone.org//NONSGML plone.app.event//EN
X-WR-TIMEZONE:US/Central
BEGIN:VEVENT
SUMMARY:SRC Activity for Grown-ups
DTSTART;TZID=US/Central:20180724T190000
DTEND;TZID=US/Central:20180724T203000
DTSTAMP:20260420T092926Z
UID:a9bd4900c52543008e12adcf7823e2d0@saas_stack_varnish:6080
CREATED:20180614T140852Z
DESCRIPTION:Watercolor painting
LAST-MODIFIED:20180615T133504Z
LOCATION:Library Meeting Room
URL:https://www.jerseyvillelibrary.org/news-events/lib-cal/src-activity-fo
 r-grown-ups-8
END:VEVENT
BEGIN:VTIMEZONE
TZID:US/Central
X-LIC-LOCATION:US/Central
BEGIN:DAYLIGHT
DTSTART:20180311T030000
TZNAME:CDT
TZOFFSETFROM:-0600
TZOFFSETTO:-0500
END:DAYLIGHT
END:VTIMEZONE
END:VCALENDAR
