BEGIN:VCALENDAR
VERSION:2.0
PRODID:-//Plone.org//NONSGML plone.app.event//EN
X-WR-TIMEZONE:US/Central
BEGIN:VEVENT
SUMMARY:SRC Activity for Grown-ups
DTSTART;TZID=US/Central:20180726T190000
DTEND;TZID=US/Central:20180726T203000
DTSTAMP:20260422T101042Z
UID:1ee3ddb131774ee0bd00045a26281b18@saas_stack_varnish:6080
CONTACT:618.498.9514
CREATED:20180614T141306Z
DESCRIPTION:Around the World with Food PRIZE PARTY!
LAST-MODIFIED:20180614T141311Z
LOCATION:Jerseyville PL upstairs meeting room
URL:https://www.jerseyvillelibrary.org/news-events/lib-cal/src-activity-fo
 r-grown-ups-9
END:VEVENT
BEGIN:VTIMEZONE
TZID:US/Central
X-LIC-LOCATION:US/Central
BEGIN:DAYLIGHT
DTSTART:20180311T030000
TZNAME:CDT
TZOFFSETFROM:-0600
TZOFFSETTO:-0500
END:DAYLIGHT
END:VTIMEZONE
END:VCALENDAR
