BEGIN:VCALENDAR
VERSION:2.0
PRODID:-//Plone.org//NONSGML plone.app.event//EN
X-WR-TIMEZONE:US/Central
BEGIN:VEVENT
SUMMARY:SRC Prize Party!!!
DTSTART;TZID=US/Central:20180727T180000
DTEND;TZID=US/Central:20180727T200000
DTSTAMP:20260420T092854Z
UID:a61f6c33863340f3b4191be261ae43c1@saas_stack_varnish:6080
CONTACT:6184989514
CREATED:20180523T213722Z
LAST-MODIFIED:20180523T213726Z
LOCATION:Donor Pool @ the Jerseyville City Park
URL:https://www.jerseyvillelibrary.org/news-events/lib-cal/src-prize-party
END:VEVENT
BEGIN:VTIMEZONE
TZID:US/Central
X-LIC-LOCATION:US/Central
BEGIN:DAYLIGHT
DTSTART:20180311T030000
TZNAME:CDT
TZOFFSETFROM:-0600
TZOFFSETTO:-0500
END:DAYLIGHT
END:VTIMEZONE
END:VCALENDAR
