BEGIN:VCALENDAR
VERSION:2.0
PRODID:-//Plone.org//NONSGML plone.app.event//EN
X-WR-TIMEZONE:US/Central
BEGIN:VEVENT
SUMMARY:SRC Special Event - Baby Zoo Party!
DTSTART;TZID=US/Central:20180626T130000
DTEND;TZID=US/Central:20180626T143000
DTSTAMP:20260420T082055Z
UID:d891148c6449473aa3394938f46ff715@saas_stack_varnish:6080
CONTACT:6184989514
CREATED:20180531T210552Z
LAST-MODIFIED:20180531T210556Z
LOCATION:Outside under the tent
URL:https://www.jerseyvillelibrary.org/news-events/lib-cal/src-special-eve
 nt-baby-zoo-party
END:VEVENT
BEGIN:VTIMEZONE
TZID:US/Central
X-LIC-LOCATION:US/Central
BEGIN:DAYLIGHT
DTSTART:20180311T030000
TZNAME:CDT
TZOFFSETFROM:-0600
TZOFFSETTO:-0500
END:DAYLIGHT
END:VTIMEZONE
END:VCALENDAR
