BEGIN:VCALENDAR
VERSION:2.0
PRODID:-//Plone.org//NONSGML plone.app.event//EN
X-WR-TIMEZONE:US/Central
BEGIN:VEVENT
SUMMARY:SRC Special Event - Hotel Transylvania 3 Party!
DTSTART;TZID=US/Central:20180710T100000
DTEND;TZID=US/Central:20180710T113000
DTSTAMP:20260420T093352Z
UID:f750dea7b5544ee4b1de7ca57fd631d1@saas_stack_varnish:6080
CONTACT:6184989514
CREATED:20180531T211120Z
LAST-MODIFIED:20180531T211126Z
LOCATION:Library Meeting Room
URL:https://www.jerseyvillelibrary.org/news-events/lib-cal/src-special-eve
 nt-hotel-transylvania-3-party
END:VEVENT
BEGIN:VTIMEZONE
TZID:US/Central
X-LIC-LOCATION:US/Central
BEGIN:DAYLIGHT
DTSTART:20180311T030000
TZNAME:CDT
TZOFFSETFROM:-0600
TZOFFSETTO:-0500
END:DAYLIGHT
END:VTIMEZONE
END:VCALENDAR
