BEGIN:VCALENDAR
VERSION:2.0
PRODID:-//Plone.org//NONSGML plone.app.event//EN
X-WR-TIMEZONE:US/Central
BEGIN:VEVENT
SUMMARY:StoryWalk Under the Stars
DTSTART;TZID=US/Central:20200918T203000
DTEND;TZID=US/Central:20200918T213000
DTSTAMP:20260420T190155Z
UID:b8277d5bf7d14429bf762018a7099d0e@saas_stack_varnish:6080
CREATED:20200901T210606Z
LAST-MODIFIED:20200901T210638Z
LOCATION:Wock Lake
URL:https://www.jerseyvillelibrary.org/news-events/lib-cal/storywalk-under
 -the-stars
END:VEVENT
BEGIN:VTIMEZONE
TZID:US/Central
X-LIC-LOCATION:US/Central
BEGIN:DAYLIGHT
DTSTART:20200308T030000
TZNAME:CDT
TZOFFSETFROM:-0600
TZOFFSETTO:-0500
END:DAYLIGHT
END:VTIMEZONE
END:VCALENDAR
