BEGIN:VCALENDAR
VERSION:2.0
PRODID:-//Plone.org//NONSGML plone.app.event//EN
X-WR-TIMEZONE:US/Central
BEGIN:VEVENT
SUMMARY:Summer Reading Club Family Entertainment
DTSTART;TZID=US/Central:20190617T190000
DTEND;TZID=US/Central:20190617T194500
DTSTAMP:20260420T130038Z
UID:b17fffdefd824d1f94264f8e4057d94a@saas_stack_varnish:6080
CONTACT:618-498-9514
CREATED:20190529T203819Z
DESCRIPTION:Monday night family entertainment
LAST-MODIFIED:20190529T210910Z
LOCATION:Jerseyville PL meeting room
URL:https://www.jerseyvillelibrary.org/news-events/lib-cal/summer-reading-
 club-5
END:VEVENT
BEGIN:VTIMEZONE
TZID:US/Central
X-LIC-LOCATION:US/Central
BEGIN:DAYLIGHT
DTSTART:20190310T030000
TZNAME:CDT
TZOFFSETFROM:-0600
TZOFFSETTO:-0500
END:DAYLIGHT
END:VTIMEZONE
END:VCALENDAR
