BEGIN:VCALENDAR
VERSION:2.0
PRODID:-//Plone.org//NONSGML plone.app.event//EN
X-WR-TIMEZONE:US/Central
BEGIN:VEVENT
SUMMARY:Summer Reading Club Family Entertainment
DTSTART;TZID=US/Central:20190722T190000
DTEND;TZID=US/Central:20190722T194500
DTSTAMP:20260420T145804Z
UID:b81843d829a140e1a5bc6b3fbac775ef@saas_stack_varnish:6080
CONTACT:618-498-9514
CREATED:20190529T211553Z
LAST-MODIFIED:20190529T211557Z
LOCATION:Jerseyville PL meeting room
URL:https://www.jerseyvillelibrary.org/news-events/lib-cal/summer-reading-
 club-family-entertainment-2
END:VEVENT
BEGIN:VTIMEZONE
TZID:US/Central
X-LIC-LOCATION:US/Central
BEGIN:DAYLIGHT
DTSTART:20190310T030000
TZNAME:CDT
TZOFFSETFROM:-0600
TZOFFSETTO:-0500
END:DAYLIGHT
END:VTIMEZONE
END:VCALENDAR
