BEGIN:VCALENDAR
VERSION:2.0
PRODID:-//Plone.org//NONSGML plone.app.event//EN
X-WR-TIMEZONE:US/Central
BEGIN:VEVENT
SUMMARY:Summer Reading Club for Adults Magicomedy Show
DTSTART;TZID=US/Central:20190627T190000
DTEND;TZID=US/Central:20190627T200000
DTSTAMP:20260420T145654Z
UID:4343581c3e954dd1aab85bc9324485e4@saas_stack_varnish:6080
CONTACT:618-498-9514
CREATED:20190614T144237Z
LAST-MODIFIED:20190614T144242Z
LOCATION:Jerseyville PL meeting room
URL:https://www.jerseyvillelibrary.org/news-events/lib-cal/summer-reading-
 club-for-adults-magicomedy-show
END:VEVENT
BEGIN:VTIMEZONE
TZID:US/Central
X-LIC-LOCATION:US/Central
BEGIN:DAYLIGHT
DTSTART:20190310T030000
TZNAME:CDT
TZOFFSETFROM:-0600
TZOFFSETTO:-0500
END:DAYLIGHT
END:VTIMEZONE
END:VCALENDAR
