BEGIN:VCALENDAR
VERSION:2.0
PRODID:-//Plone.org//NONSGML plone.app.event//EN
X-WR-TIMEZONE:US/Central
BEGIN:VEVENT
SUMMARY:Summer Reading Club Friday Events for Infants - Age 5
DTSTART;TZID=US/Central:20190705T100000
DTEND;TZID=US/Central:20190705T110000
DTSTAMP:20260420T144139Z
UID:4307aa0f23aa4e3eb5dca672b5aead45@saas_stack_varnish:6080
CONTACT:618-498-9514
CREATED:20190529T212319Z
DESCRIPTION:It's Showtime at Your Library!
LAST-MODIFIED:20190529T212324Z
LOCATION:Jerseyville PL meeting room
URL:https://www.jerseyvillelibrary.org/news-events/lib-cal/summer-reading-
 club-friday-events-for-infants-age-5/2019-07-05
END:VEVENT
BEGIN:VTIMEZONE
TZID:US/Central
X-LIC-LOCATION:US/Central
BEGIN:DAYLIGHT
DTSTART:20190310T030000
TZNAME:CDT
TZOFFSETFROM:-0600
TZOFFSETTO:-0500
END:DAYLIGHT
END:VTIMEZONE
END:VCALENDAR
