BEGIN:VCALENDAR
VERSION:2.0
PRODID:-//Plone.org//NONSGML plone.app.event//EN
X-WR-TIMEZONE:US/Central
BEGIN:VEVENT
SUMMARY:Summer Reading Club Friday Events for K - Gr. 5
DTSTART;TZID=US/Central:20190705T130000
DTEND;TZID=US/Central:20190705T150000
DTSTAMP:20260420T144130Z
UID:566f64ff3f984dafb59fb1ecfa634d90@saas_stack_varnish:6080
CONTACT:618-498-9514
CREATED:20190529T214334Z
DESCRIPTION:It's Showtime @ Your Library
LAST-MODIFIED:20190529T214339Z
LOCATION:Jerseyville PL meeting room
URL:https://www.jerseyvillelibrary.org/news-events/lib-cal/summer-reading-
 club-friday-events-for-k-gr-5-1/2019-07-05
END:VEVENT
BEGIN:VTIMEZONE
TZID:US/Central
X-LIC-LOCATION:US/Central
BEGIN:DAYLIGHT
DTSTART:20190310T030000
TZNAME:CDT
TZOFFSETFROM:-0600
TZOFFSETTO:-0500
END:DAYLIGHT
END:VTIMEZONE
END:VCALENDAR
