BEGIN:VCALENDAR
VERSION:2.0
PRODID:-//Plone.org//NONSGML plone.app.event//EN
X-WR-TIMEZONE:US/Central
BEGIN:VEVENT
SUMMARY:Teen SRC Activity
DTSTART;TZID=US/Central:20180711T183000
DTEND;TZID=US/Central:20180711T203000
DTSTAMP:20260420T081703Z
UID:763f653701a84912921405cedf05feef@saas_stack_varnish:6080
CONTACT:Christie or Brandi\, 618.498.9514\, jplstart@gmail.com
CREATED:20180614T194910Z
DESCRIPTION:Virtual Reality Event
LAST-MODIFIED:20180614T194914Z
LOCATION:Library Meeting Room
URL:https://www.jerseyvillelibrary.org/news-events/lib-cal/teen-src-activi
 ty-1
END:VEVENT
BEGIN:VTIMEZONE
TZID:US/Central
X-LIC-LOCATION:US/Central
BEGIN:DAYLIGHT
DTSTART:20180311T030000
TZNAME:CDT
TZOFFSETFROM:-0600
TZOFFSETTO:-0500
END:DAYLIGHT
END:VTIMEZONE
END:VCALENDAR
