BEGIN:VCALENDAR
VERSION:2.0
PRODID:-//Plone.org//NONSGML plone.app.event//EN
X-WR-TIMEZONE:US/Central
BEGIN:VEVENT
SUMMARY:Teen SRC Activity
DTSTART;TZID=US/Central:20180725T183000
DTEND;TZID=US/Central:20180725T203000
DTSTAMP:20260420T092937Z
UID:403492acfcdc4b89aa4b733a252be9f6@saas_stack_varnish:6080
CONTACT:Christie or Brandi\, 618.498.9514\, jplstart@gmail.com
CREATED:20180614T205922Z
DESCRIPTION:BEACH PARTY!!
LAST-MODIFIED:20180614T214023Z
LOCATION:Library Meeting Room
URL:https://www.jerseyvillelibrary.org/news-events/lib-cal/teen-src-activi
 ty-3
END:VEVENT
BEGIN:VTIMEZONE
TZID:US/Central
X-LIC-LOCATION:US/Central
BEGIN:DAYLIGHT
DTSTART:20180311T030000
TZNAME:CDT
TZOFFSETFROM:-0600
TZOFFSETTO:-0500
END:DAYLIGHT
END:VTIMEZONE
END:VCALENDAR
