BEGIN:VCALENDAR
VERSION:2.0
PRODID:-//Plone.org//NONSGML plone.app.event//EN
X-WR-TIMEZONE:US/Central
BEGIN:VEVENT
SUMMARY:Teen SRC Activity
DTSTART;TZID=US/Central:20180801T183000
DTEND;TZID=US/Central:20180801T193000
DTSTAMP:20260420T093002Z
UID:ffe4c014965942d8bbfb78871c94e284@saas_stack_varnish:6080
CONTACT:Christie or Brandi\, 618.498.9514\, jplstart@gmail.com
CREATED:20180615T142247Z
DESCRIPTION:Foamboard Challenge
LAST-MODIFIED:20180615T142252Z
LOCATION:JPL Upstairs Meeting Room
URL:https://www.jerseyvillelibrary.org/news-events/lib-cal/teen-src-activi
 ty-4
END:VEVENT
BEGIN:VTIMEZONE
TZID:US/Central
X-LIC-LOCATION:US/Central
BEGIN:DAYLIGHT
DTSTART:20180311T030000
TZNAME:CDT
TZOFFSETFROM:-0600
TZOFFSETTO:-0500
END:DAYLIGHT
END:VTIMEZONE
END:VCALENDAR
