BEGIN:VCALENDAR
VERSION:2.0
PRODID:-//Plone.org//NONSGML plone.app.event//EN
X-WR-TIMEZONE:US/Central
BEGIN:VEVENT
SUMMARY:Teen SRC Event Week 1
DTSTART;TZID=US/Central:20190618T130000
DTEND;TZID=US/Central:20190618T150000
DTSTAMP:20260420T130212Z
UID:d831f49c2a5b41e282ab375168ffe8d3@saas_stack_varnish:6080
CONTACT:Brandi\, 618.498.9514\, brandip@jerseyvillelibrary.org
CREATED:20190603T190459Z
LAST-MODIFIED:20190603T190508Z
LOCATION:Jerseyville PL
URL:https://www.jerseyvillelibrary.org/news-events/lib-cal/teen-src-event-
 week-1
END:VEVENT
BEGIN:VTIMEZONE
TZID:US/Central
X-LIC-LOCATION:US/Central
BEGIN:DAYLIGHT
DTSTART:20190310T030000
TZNAME:CDT
TZOFFSETFROM:-0600
TZOFFSETTO:-0500
END:DAYLIGHT
END:VTIMEZONE
END:VCALENDAR
