BEGIN:VCALENDAR
VERSION:2.0
PRODID:-//Plone.org//NONSGML plone.app.event//EN
X-WR-TIMEZONE:US/Central
BEGIN:VEVENT
SUMMARY:Teen SRC Event Week 2
DTSTART;TZID=US/Central:20190627T180000
DTEND;TZID=US/Central:20190627T200000
DTSTAMP:20260420T145343Z
UID:202c784217674c71b0c7fb5f3e3ac375@saas_stack_varnish:6080
CONTACT:Brandi\, 618.498.9514\, brandip@jerseyvillelibrary.org
CREATED:20190603T194943Z
LAST-MODIFIED:20190626T204406Z
LOCATION:Jerseyville City Hall
URL:https://www.jerseyvillelibrary.org/news-events/lib-cal/teen-src-event-
 week-2-1
END:VEVENT
BEGIN:VTIMEZONE
TZID:US/Central
X-LIC-LOCATION:US/Central
BEGIN:DAYLIGHT
DTSTART:20190310T030000
TZNAME:CDT
TZOFFSETFROM:-0600
TZOFFSETTO:-0500
END:DAYLIGHT
END:VTIMEZONE
END:VCALENDAR
