BEGIN:VCALENDAR
VERSION:2.0
PRODID:-//Plone.org//NONSGML plone.app.event//EN
X-WR-TIMEZONE:US/Central
BEGIN:VEVENT
SUMMARY:Teen SRC Event Week 5
DTSTART;TZID=US/Central:20190718T130000
DTEND;TZID=US/Central:20190718T150000
DTSTAMP:20260420T144804Z
UID:61a491bbdb0543769c7cd2bb9e005a1f@saas_stack_varnish:6080
CONTACT:Brandi\, 618.498.9514\, brandip@jerseyvillelibrary.org
CREATED:20190603T200224Z
LAST-MODIFIED:20190603T200230Z
LOCATION:Jerseyville PL
URL:https://www.jerseyvillelibrary.org/news-events/lib-cal/teen-src-event-
 week-5-1
END:VEVENT
BEGIN:VTIMEZONE
TZID:US/Central
X-LIC-LOCATION:US/Central
BEGIN:DAYLIGHT
DTSTART:20190310T030000
TZNAME:CDT
TZOFFSETFROM:-0600
TZOFFSETTO:-0500
END:DAYLIGHT
END:VTIMEZONE
END:VCALENDAR
