BEGIN:VCALENDAR
VERSION:2.0
PRODID:-//Plone.org//NONSGML plone.app.event//EN
X-WR-TIMEZONE:US/Central
BEGIN:VEVENT
SUMMARY:Teens/Tweens Sidewalk Art Contest
DTSTART;TZID=US/Central:20191019T110000
DTEND;TZID=US/Central:20191019T123000
DTSTAMP:20260420T161657Z
UID:db78fea57b904b9f94d5ddf04e1bc211@saas_stack_varnish:6080
CONTACT:Brandi\, 618-498-9514\, brandip@jerseyvillelibrary.org
CREATED:20190930T211423Z
LAST-MODIFIED:20190930T211430Z
LOCATION:Jerseyville PL parking lot
URL:https://www.jerseyvillelibrary.org/news-events/lib-cal/teens-tweens-si
 dewalk-art-contest
END:VEVENT
BEGIN:VTIMEZONE
TZID:US/Central
X-LIC-LOCATION:US/Central
BEGIN:DAYLIGHT
DTSTART:20190310T030000
TZNAME:CDT
TZOFFSETFROM:-0600
TZOFFSETTO:-0500
END:DAYLIGHT
END:VTIMEZONE
END:VCALENDAR
