BEGIN:VCALENDAR
VERSION:2.0
PRODID:-//Plone.org//NONSGML plone.app.event//EN
X-WR-TIMEZONE:US/Central
BEGIN:VEVENT
SUMMARY:Toddler Storytime
DTSTART;TZID=US/Central:20181009T183000
DTEND;TZID=US/Central:20181009T190000
DTSTAMP:20260420T110102Z
UID:13d4568a93f046d9861236a50b68d445@saas_stack_varnish:6080
CONTACT:Laurie\, 618.498.9514\, lauriei@jerseyvillelibrary.org
CREATED:20180816T153132Z
LAST-MODIFIED:20180816T153138Z
LOCATION:Jerseyville PL meeting room
URL:https://www.jerseyvillelibrary.org/news-events/lib-cal/toddler-storyti
 me-2/2018-10-09
END:VEVENT
BEGIN:VTIMEZONE
TZID:US/Central
X-LIC-LOCATION:US/Central
BEGIN:DAYLIGHT
DTSTART:20180311T030000
TZNAME:CDT
TZOFFSETFROM:-0600
TZOFFSETTO:-0500
END:DAYLIGHT
END:VTIMEZONE
END:VCALENDAR
