BEGIN:VCALENDAR
VERSION:2.0
PRODID:-//Plone.org//NONSGML plone.app.event//EN
X-WR-TIMEZONE:US/Central
BEGIN:VEVENT
SUMMARY:Toddler Storytime
DTSTART;TZID=US/Central:20181211T183000
DTEND;TZID=US/Central:20181211T190000
DTSTAMP:20260420T121501Z
UID:13d4568a93f046d9861236a50b68d445@saas_stack_varnish:6080
CONTACT:Laurie\, 618.498.9514\, lauriei@jerseyvillelibrary.org
CREATED:20180816T153132Z
LAST-MODIFIED:20180816T153138Z
LOCATION:Jerseyville PL meeting room
URL:https://www.jerseyvillelibrary.org/news-events/lib-cal/toddler-storyti
 me-2/2018-12-11
END:VEVENT
BEGIN:VTIMEZONE
TZID:US/Central
X-LIC-LOCATION:US/Central
BEGIN:STANDARD
DTSTART:20181104T010000
TZNAME:CST
TZOFFSETFROM:-0500
TZOFFSETTO:-0600
END:STANDARD
END:VTIMEZONE
END:VCALENDAR
