BEGIN:VCALENDAR
VERSION:2.0
PRODID:-//Plone.org//NONSGML plone.app.event//EN
X-WR-TIMEZONE:US/Central
BEGIN:VEVENT
SUMMARY:Tween Book Club
DTSTART;TZID=US/Central:20181014T140000
DTEND;TZID=US/Central:20181014T150000
DTSTAMP:20260420T104910Z
UID:57be8dbb3bc4402f9bdf7fe75a99873d@saas_stack_varnish:6080
CONTACT:618.498.9514
CREATED:20180911T202852Z
LAST-MODIFIED:20180911T202859Z
LOCATION:Jerseyville PL upstairs meeting room
URL:https://www.jerseyvillelibrary.org/news-events/lib-cal/tween-book-club
 -1
END:VEVENT
BEGIN:VTIMEZONE
TZID:US/Central
X-LIC-LOCATION:US/Central
BEGIN:DAYLIGHT
DTSTART:20180311T030000
TZNAME:CDT
TZOFFSETFROM:-0600
TZOFFSETTO:-0500
END:DAYLIGHT
END:VTIMEZONE
END:VCALENDAR
