BEGIN:VCALENDAR
VERSION:2.0
PRODID:-//Plone.org//NONSGML plone.app.event//EN
X-WR-TIMEZONE:US/Central
BEGIN:VEVENT
SUMMARY:Tween Book Club
DTSTART;TZID=US/Central:20181216T140000
DTEND;TZID=US/Central:20181216T150000
DTSTAMP:20260420T115700Z
UID:ec4daf0c8f244feb8e2018672bd33bc4@saas_stack_varnish:6080
CREATED:20181129T220639Z
LAST-MODIFIED:20181129T220717Z
URL:https://www.jerseyvillelibrary.org/news-events/lib-cal/tween-book-club
 -3
END:VEVENT
BEGIN:VTIMEZONE
TZID:US/Central
X-LIC-LOCATION:US/Central
BEGIN:STANDARD
DTSTART:20181104T010000
TZNAME:CST
TZOFFSETFROM:-0500
TZOFFSETTO:-0600
END:STANDARD
END:VTIMEZONE
END:VCALENDAR
