BEGIN:VCALENDAR
VERSION:2.0
PRODID:-//Plone.org//NONSGML plone.app.event//EN
X-WR-TIMEZONE:US/Central
BEGIN:VEVENT
SUMMARY:Tween Book Club
DTSTART;TZID=US/Central:20191206T153000
DTEND;TZID=US/Central:20191206T163000
DTSTAMP:20260420T172645Z
UID:37e3ca59d28542c1b7f4b298da516ba9@saas_stack_varnish:6080
CONTACT:618-498-9514
CREATED:20191204T153448Z
LAST-MODIFIED:20191204T153503Z
LOCATION:Jerseyville PL meeting room
URL:https://www.jerseyvillelibrary.org/news-events/lib-cal/tween-book-club
 -4
END:VEVENT
BEGIN:VTIMEZONE
TZID:US/Central
X-LIC-LOCATION:US/Central
BEGIN:STANDARD
DTSTART:20191103T010000
TZNAME:CST
TZOFFSETFROM:-0500
TZOFFSETTO:-0600
END:STANDARD
END:VTIMEZONE
END:VCALENDAR
