BEGIN:VCALENDAR
VERSION:2.0
PRODID:-//Plone.org//NONSGML plone.app.event//EN
X-WR-TIMEZONE:US/Central
BEGIN:VEVENT
SUMMARY:Ugly Christmas Sweater Workshop for Grades K-5
DTSTART;TZID=US/Central:20181201T100000
DTEND;TZID=US/Central:20181201T120000
DTSTAMP:20260420T104941Z
UID:f257ababec404f9a9a0a5a4edf280781@saas_stack_varnish:6080
CONTACT:618.498.9514
CREATED:20181115T195119Z
LAST-MODIFIED:20181115T200658Z
LOCATION:Jerseyville PL meeting room
URL:https://www.jerseyvillelibrary.org/news-events/lib-cal/ugly-christmas-
 sweater-workshop
END:VEVENT
BEGIN:VTIMEZONE
TZID:US/Central
X-LIC-LOCATION:US/Central
BEGIN:STANDARD
DTSTART:20181104T010000
TZNAME:CST
TZOFFSETFROM:-0500
TZOFFSETTO:-0600
END:STANDARD
END:VTIMEZONE
END:VCALENDAR
