BEGIN:VCALENDAR
VERSION:2.0
PRODID:-//Plone.org//NONSGML plone.app.event//EN
X-WR-TIMEZONE:US/Central
BEGIN:VEVENT
SUMMARY:Ukeulele Jam Session - Holiday Style
DTSTART;TZID=US/Central:20191210T183000
DTEND;TZID=US/Central:20191210T190000
DTSTAMP:20260420T172631Z
UID:5d11c37d411446268f7e026532c7b411@saas_stack_varnish:6080
CONTACT:Beth S.\, 618-498-9514\, beths@jerseyvillelibrary.org
CREATED:20191204T160007Z
LAST-MODIFIED:20191204T160011Z
URL:https://www.jerseyvillelibrary.org/news-events/lib-cal/ukeulele-jam-se
 ssion-holiday-style
END:VEVENT
BEGIN:VTIMEZONE
TZID:US/Central
X-LIC-LOCATION:US/Central
BEGIN:STANDARD
DTSTART:20191103T010000
TZNAME:CST
TZOFFSETFROM:-0500
TZOFFSETTO:-0600
END:STANDARD
END:VTIMEZONE
END:VCALENDAR
