BEGIN:VCALENDAR
VERSION:2.0
PRODID:-//Plone.org//NONSGML plone.app.event//EN
X-WR-TIMEZONE:US/Central
BEGIN:VEVENT
SUMMARY:Ukulele Workshops!!
DTSTART;TZID=US/Central:20190220T183000
DTEND;TZID=US/Central:20190220T193000
DTSTAMP:20260420T115035Z
UID:087017a58df042f1a2be7cdb3e0d8e61@saas_stack_varnish:6080
CONTACT:Beth Smilack\, 618.498.9514\, beths@jerseyvillelibrary.org
CREATED:20190212T175926Z
DESCRIPTION:For Kids age 5 - Grade 5
LAST-MODIFIED:20190212T175932Z
LOCATION:Jerseyville PL meeting room
URL:https://www.jerseyvillelibrary.org/news-events/lib-cal/ukulele-worksho
 ps-1
END:VEVENT
BEGIN:VTIMEZONE
TZID:US/Central
X-LIC-LOCATION:US/Central
BEGIN:STANDARD
DTSTART:20181104T010000
TZNAME:CST
TZOFFSETFROM:-0500
TZOFFSETTO:-0600
END:STANDARD
END:VTIMEZONE
END:VCALENDAR
