BEGIN:VCALENDAR
VERSION:2.0
PRODID:-//Plone.org//NONSGML plone.app.event//EN
X-WR-TIMEZONE:US/Central
BEGIN:VEVENT
SUMMARY:Ukulele Workshops!!
DTSTART;TZID=US/Central:20190227T183000
DTEND;TZID=US/Central:20190227T193000
DTSTAMP:20260420T115538Z
UID:df0271dd805c4e0c9d5075c7241d3735@saas_stack_varnish:6080
CONTACT:Beth Smilack\, 618.498.9514\, beths@jerseyvillelibrary.org
CREATED:20190212T180113Z
DESCRIPTION:For Adults--NO CHILDREN PLEASE
LAST-MODIFIED:20190212T180129Z
LOCATION:Jerseyville PL meeting room
URL:https://www.jerseyvillelibrary.org/news-events/lib-cal/ukulele-worksho
 ps-2
END:VEVENT
BEGIN:VTIMEZONE
TZID:US/Central
X-LIC-LOCATION:US/Central
BEGIN:STANDARD
DTSTART:20181104T010000
TZNAME:CST
TZOFFSETFROM:-0500
TZOFFSETTO:-0600
END:STANDARD
END:VTIMEZONE
END:VCALENDAR
