BEGIN:VCALENDAR
VERSION:2.0
PRODID:-//Plone.org//NONSGML plone.app.event//EN
X-WR-TIMEZONE:US/Central
BEGIN:VEVENT
SUMMARY:Updated Halloween Festival Schedule
DTSTART;TZID=US/Central:20191026T100000
DTEND;TZID=US/Central:20191026T123000
DTSTAMP:20260420T161541Z
UID:143f0ebe29194523b0bffd197be570c1@saas_stack_varnish:6080
CONTACT:618-498-9514
CREATED:20191025T185837Z
LAST-MODIFIED:20191025T185842Z
LOCATION:St. Francis School Gym/415 S. State St./Jerseyville
URL:https://www.jerseyvillelibrary.org/news-events/lib-cal/updated-hallowe
 en-festival-schedule
END:VEVENT
BEGIN:VTIMEZONE
TZID:US/Central
X-LIC-LOCATION:US/Central
BEGIN:DAYLIGHT
DTSTART:20190310T030000
TZNAME:CDT
TZOFFSETFROM:-0600
TZOFFSETTO:-0500
END:DAYLIGHT
END:VTIMEZONE
END:VCALENDAR
