BEGIN:VCALENDAR
VERSION:2.0
PRODID:-//Plone.org//NONSGML plone.app.event//EN
X-WR-TIMEZONE:US/Central
BEGIN:VEVENT
SUMMARY:Valentine's Day Drop-in Program
DTSTART;TZID=US/Central:20190209T083000
DTEND;TZID=US/Central:20190209T170000
DTSTAMP:20260420T120226Z
UID:87d0fd97aa7a4ab1aad4e27732a0f8e1@saas_stack_varnish:6080
CONTACT:618.498.9514
CREATED:20190203T144733Z
DESCRIPTION:Make a Valentine for your favorite author or book character!
LAST-MODIFIED:20190203T144741Z
LOCATION:Jerseyville PL meeting room
URL:https://www.jerseyvillelibrary.org/news-events/lib-cal/valentines-day-
 drop-in-program
END:VEVENT
BEGIN:VTIMEZONE
TZID:US/Central
X-LIC-LOCATION:US/Central
BEGIN:STANDARD
DTSTART:20181104T010000
TZNAME:CST
TZOFFSETFROM:-0500
TZOFFSETTO:-0600
END:STANDARD
END:VTIMEZONE
END:VCALENDAR
